BEGIN:VCALENDAR
VERSION:2.0
PRODID:-//eventon.com NONSGML v1.0//EN
CALSCALE:GREGORIAN
METHOD:PUBLISH
BEGIN:VEVENT
UID:69e982a3ee7c0
DTSTAMP:20260423T022331Z
DTSTART:20230418T100000Z
DTEND:20230418T130000Z
LOCATION:
SUMMARY:Exkursion Kompostieranlage Wernberg
DESCRIPTION:Exkursion Kompostieranlage Wernberg\nhttps://www.carnica-rosent
 al.at/events/exkursion-kompostieranlage-wernberg
URL:https://www.carnica-rosental.at/events/exkursion-kompostieranlage-wernberg
END:VEVENT
END:VCALENDAR